BEGIN:VCALENDAR
PRODID:-//AT Content Types//AT Event//EN
VERSION:2.0
METHOD:PUBLISH
BEGIN:VEVENT
DTSTAMP:20260419T184529Z
CREATED:20180904T122422Z
UID:ATEvent-62c5bd3eef9f439c87361fa84efbcb3f
LAST-MODIFIED:20241016T093645Z
SUMMARY:PUBLIC PROGRAM (PREP) - Colloquium
DTSTART:20181010T123000Z
DTEND:20181010T154500Z
DESCRIPTION:PUBLIC PROGRAM – PREP Colloquium
LOCATION:Zentralinstitut für Kunstgeschichte\, Katharina-von-Bora-Str. 10\, 80333 München\, Room 242
CATEGORIES:Provenienzforschung, 2018
CLASS:PUBLIC
END:VEVENT
END:VCALENDAR
