BEGIN:VCALENDAR
PRODID:-//AT Content Types//AT Event//EN
VERSION:2.0
METHOD:PUBLISH
BEGIN:VEVENT
DTSTAMP:20260422T103153Z
CREATED:20180904T130027Z
UID:ATEvent-671fa29b61804fe58aa04d3b37d6ebde
LAST-MODIFIED:20241016T093857Z
SUMMARY:PUBLIC PROGRAM (PREP) - Exhibition Opening
DTSTART:20181010T183000Z
DTEND:20181010T200000Z
DESCRIPTION:PUBLIC PROGRAM – Exhibition Opening
LOCATION:Zentralinstitut für Kunstgeschichte\, Katharina-von-Bora Str. 10\, 80333 München\, Courtyard North
CATEGORIES:Provenienzforschung, 2018
CLASS:PUBLIC
END:VEVENT
END:VCALENDAR
