BEGIN:VCALENDAR
PRODID:-//AT Content Types//AT Event//EN
VERSION:2.0
METHOD:PUBLISH
BEGIN:VEVENT
DTSTAMP:20260422T012234Z
CREATED:20180716T133515Z
UID:ATEvent-0e13d62a98c243a7b2916a92144df553
LAST-MODIFIED:20260130T101434Z
SUMMARY:Tagung // Das Gesangbuch und seine Bilder
DTSTART:20181123T083000Z
DTEND:20181124T120000Z
DESCRIPTION:Eine Tagung in Zusammenarbeit mit der Stiftung Luthergeden
 kstätten in Sachsen-Anhalt.
LOCATION:Zentralinstitut für Kunstgeschichte\, Vortragsraum 242\, II. OG\, Katharina-von-Bora-Straße 10\, 80333 München
CATEGORIES:2018, Forschungsstelle Realienkunde
CLASS:PUBLIC
END:VEVENT
END:VCALENDAR
