BEGIN:VCALENDAR
PRODID:-//AT Content Types//AT Event//EN
VERSION:1.0
BEGIN:VEVENT
DTSTART:20181025T113000Z
DTEND:20181026T120000Z
DCREATED:20180719T103649Z
UID:ATEvent-7bea393773e14cc0a762c22cf66be197
SEQUENCE:0
LAST-MODIFIED:20241127T111937Z
SUMMARY:Tagung: Kulturtransfer und auswärtige Kulturpolitik. Akteure und Faktoren polnisch-deutscher Beziehungen 1949–1990
DESCRIPTION:Kulturtransfer und auswärtige Kulturpolitik. Akteure und 
 Faktoren polnisch-deutscher Beziehungen 1949–1990
LOCATION:Carl Friedrich von Siemens Stiftung Südliches Schloßrondell 23 80638 München
PRIORITY:3
TRANSP:0
END:VEVENT
END:VCALENDAR
