BEGIN:VCALENDAR
PRODID:-//AT Content Types//AT Event//EN
VERSION:2.0
METHOD:PUBLISH
BEGIN:VEVENT
DTSTAMP:20260419T184523Z
CREATED:20180729T100710Z
UID:ATEvent-b34cd30a76a74eab92dcbf94ae29bb1b
LAST-MODIFIED:20241016T092131Z
SUMMARY:Vergabe Forschungspreis Angewandte Kunst 2018
DTSTART:20181128T180000Z
DTEND:20181128T193000Z
DESCRIPTION:Vergabe des Forschungspreises für herausragende Forschung
 sarbeiten auf dem Gebiet der Angewandten Kunst
LOCATION:Zentralinstitut für Kunstgeschichte\, Vortragsraum 242\, II. OG\, Katharina-von-Bora-Straße 10\, 80333 München
CATEGORIES:Angewandte Kunst, 2018
CLASS:PUBLIC
END:VEVENT
END:VCALENDAR
