BEGIN:VCALENDAR
PRODID:-//AT Content Types//AT Event//EN
VERSION:1.0
BEGIN:VEVENT
DTSTART:20181212T171500Z
DTEND:20181212T190000Z
DCREATED:20180716T133700Z
UID:ATEvent-2667ec911e984a38bb2888f77caa842c
SEQUENCE:0
LAST-MODIFIED:20180809T075612Z
SUMMARY:Vortrag: Luisa Elena Alcalá
DESCRIPTION:Alcalá: Towards a New Art History of Cult Images and Devo
 tion in Spanish America
LOCATION:Zentralinstitut für Kunstgeschichte\, Vortragsraum 242\, II. OG\, Katharina-von-Bora-Straße 10\, 80333 München
PRIORITY:3
TRANSP:0
END:VEVENT
END:VCALENDAR
