BEGIN:VCALENDAR
PRODID:-//AT Content Types//AT Event//EN
VERSION:2.0
METHOD:PUBLISH
BEGIN:VEVENT
DTSTAMP:20260422T084654Z
CREATED:20180729T100259Z
UID:ATEvent-2362a10582934155a25c5761af10f9db
LAST-MODIFIED:20241016T091938Z
SUMMARY:Festvortrag Forschungspreis Angewandte Kunst 2018 // Peter N. Miller: Museumswissenschaft as Kulturwissenschaft c. 1900: the debate about historical\, decorative arts\, and ethnography museums in the pages of Museumskunde
DTSTART:20181128T181500Z
DTEND:20181128T193000Z
DESCRIPTION:Aus Anlass der Vergabe des Forschungspreises Angewandte Ku
 nst 2018 an Dr. Christiane Elster für ihre Publikation „Die textile
 n Geschenke Papst Bonifaz‘ VIII. (1294-1303) an die Kathedrale von A
 nagni - päpstliche Paramente des späten Mittelalters als Medien der 
 Repräsentation\, Gaben und Erinnerungsträger“\, Petersberg 2018.
LOCATION:Zentralinstitut für Kunstgeschichte\, Vortragsraum 242\, II. OG\, Katharina-von-Bora-Straße 10\, 80333 München
CATEGORIES:2018, Festvortrag FAK
CLASS:PUBLIC
END:VEVENT
END:VCALENDAR
