BEGIN:VCALENDAR
PRODID:-//AT Content Types//AT Event//EN
VERSION:2.0
METHOD:PUBLISH
BEGIN:VEVENT
DTSTAMP:20260422T034655Z
CREATED:20171023T154754Z
UID:ATEvent-9362f776a4aa403eb599ec2e37c2de4c
LAST-MODIFIED:20250326T094721Z
SUMMARY:Vortrag Stefan Bürger
DTSTART:20180228T171500Z
DTEND:20180228T183000Z
DESCRIPTION:Stefan Bürger: Problemfeld Spätgotik. Oder: Ist die Spä
 tgotik eine vergessene oder gar verlorene Epoche?
LOCATION:Zentralinstitut für Kunstgeschichte\, Katharina-von-Bora-Str. 10\, München\, Vortragssaal 242\, II. OG
CATEGORIES:2018, Reihe Architektur des Mittelalters
CLASS:PUBLIC
END:VEVENT
END:VCALENDAR
