BEGIN:VCALENDAR
PRODID:-//AT Content Types//AT Event//EN
VERSION:1.0
BEGIN:VEVENT
DTSTART:20181026T160000Z
DTEND:20181026T170000Z
DCREATED:20180813T083640Z
UID:ATEvent-5f59a99acfc846cab04a25b398a4d8ae
SEQUENCE:0
LAST-MODIFIED:20241016T092844Z
SUMMARY:Vortrag: Wolfgang Augustyn
DESCRIPTION:Wolfgang Augustyn: Zum Stiftergedächtnis im Allerheiligen
 ­kloster Schaffhausen
LOCATION:Zentralinstitut für Kunstgeschichte\, Katharina-von-Bora-Str. 10\, München\, Vortragssaal 242\, II. OG
PRIORITY:3
TRANSP:0
END:VEVENT
END:VCALENDAR
