BEGIN:VCALENDAR
PRODID:-//AT Content Types//AT Event//EN
VERSION:2.0
METHOD:PUBLISH
BEGIN:VEVENT
DTSTAMP:20260421T021840Z
CREATED:20180619T072117Z
UID:ATEvent-5c171f72923d457e8494f504bc295bfc
LAST-MODIFIED:20180727T071938Z
SUMMARY:Workshop Jee-Hae Kim
DTSTART:20180719T120000Z
DTEND:20180719T133000Z
DESCRIPTION:How To Do Things Together: Kooperative Konstellationen der
  künstlerischen Telekommunikationsprojekte in Victoria\, Pender Islan
 d und zwischen Wien und Vancouver\, 1979-1986
LOCATION:Zentralinstitut für Kunstgeschichte\, Vortragsraum 242\, II. OG\, Katharina-von-Bora-Straße 10\, 80333 München
CATEGORIES:Juliane-und-Franz-Roh-Stipendium, 2018
CLASS:PUBLIC
END:VEVENT
END:VCALENDAR
