BEGIN:VCALENDAR
PRODID:-//AT Content Types//AT Event//EN
VERSION:1.0
BEGIN:VEVENT
DTSTART:20180308T130000Z
DTEND:20180308T143000Z
DCREATED:20180124T080903Z
UID:ATEvent-6cb1a3c754ad4c10a295bd0ea2979777
SEQUENCE:0
LAST-MODIFIED:20180518T155039Z
SUMMARY:Workshop Liza Weber
DESCRIPTION:Workshop Liza Weber: documenta and its Double
LOCATION:Zentralinstitut für Kunstgeschichte\, Vortragssaal Raum 242\, II. OG\, Katharina-von-Bora-Straße 10\, 80333 München
PRIORITY:3
TRANSP:0
END:VEVENT
END:VCALENDAR
