BEGIN:VCALENDAR
PRODID:-//AT Content Types//AT Event//EN
VERSION:1.0
BEGIN:VEVENT
DTSTART:20181213T130000Z
DTEND:20181213T140000Z
DCREATED:20181107T125717Z
UID:ATEvent-7083612e2e2a444aabc1053976c77ff7
SEQUENCE:0
LAST-MODIFIED:20240612T151017Z
SUMMARY:Workshop Lynn F. Jacobs
DESCRIPTION:Workshop: The Boundaries of German Painted Triptychs of th
 e Fifteenth Century
LOCATION:Zentralinstitut für Kunstgeschichte\, Katharina-von-Bora-Str. 10\, München\, Raum 110\, I. OG
PRIORITY:3
TRANSP:0
END:VEVENT
END:VCALENDAR
