BEGIN:VCALENDAR
PRODID:-//AT Content Types//AT Event//EN
VERSION:1.0
BEGIN:VEVENT
DTSTART:20180711T120000Z
DTEND:20180711T140000Z
DCREATED:20180704T082325Z
UID:ATEvent-a21612e16e9641d193cfa21351c74299
SEQUENCE:0
LAST-MODIFIED:20180727T071949Z
SUMMARY:Workshop mit Maximilian Schich und Juyong Park
DESCRIPTION:Workshop mit Maximilian Schich: “Quantitative Aesthetics
  – Critical & Creative”
LOCATION:Zentralinstitut für Kunstgeschichte\, Vortragsraum 242\, II. OG\, Katharina-von-Bora-Straße 10\, 80333 München
PRIORITY:3
TRANSP:0
END:VEVENT
END:VCALENDAR
