BEGIN:VCALENDAR
PRODID:-//AT Content Types//AT Event//EN
VERSION:1.0
BEGIN:VEVENT
DTSTART:20180614T120000Z
DTEND:20180614T133000Z
DCREATED:20180605T141818Z
UID:ATEvent-61f2bc091e51404eb8f9941d3b26454e
SEQUENCE:0
LAST-MODIFIED:20180727T071901Z
SUMMARY:Workshop Steven Lauritano
DESCRIPTION:Steven Lauritano: The Vessel as Architectural Argument
LOCATION:Zentralinstitut für Kunstgeschichte\, Vortragssaal Raum 242\, II. OG\, Katharina-von-Bora-Straße 10\, 80333 München
PRIORITY:3
TRANSP:0
END:VEVENT
END:VCALENDAR
