BEGIN:VCALENDAR
PRODID:-//AT Content Types//AT Event//EN
VERSION:2.0
METHOD:PUBLISH
BEGIN:VEVENT
DTSTAMP:20260421T152140Z
CREATED:20190731T145030Z
UID:ATEvent-c6be59081d7e4e8ab8b99539510e55f7
LAST-MODIFIED:20260130T113334Z
SUMMARY:Ausstellung // Hans Haacke
DTSTART:20191212T080000Z
DTEND:20200207T170000Z
DESCRIPTION:Eine Ausstellung des Studienzentrums zur Kunst der Moderne
  und Gegenwart am Zentralinstitut für Kunstgeschichte.
LOCATION:Zentralinstitut für Kunstgeschichte\, Katharina-von-Bora-Str. 10\, 80333 München\, Nördlicher Lichthof\, I. OG und Fassade des Gebäudes
CATEGORIES:2020, Ausstellung, Studienzentrum, 2019
CLASS:PUBLIC
END:VEVENT
END:VCALENDAR
