BEGIN:VCALENDAR
PRODID:-//AT Content Types//AT Event//EN
VERSION:1.0
BEGIN:VEVENT
DTSTART:20190627T080000Z
DTEND:20190920T160000Z
DCREATED:20190409T115140Z
UID:ATEvent-955bc71bb6a0480482e29f3ebb29e5c2
SEQUENCE:0
LAST-MODIFIED:20251029T090706Z
SUMMARY:Ausstellung // Phönix aus der Asche. Bildwerdung der Antike - Druckgrafiken bis 1869
DESCRIPTION:Eine Vitrinenausstellung in Kooperation mit dem Museum fü
 r Abgüsse klassischer Bildwerke München\, den Staatlichen Antikensam
 mlungen und Glyptothek München sowie den Instituten für Klassische A
 rchäologie und Ägyptologie und Koptologie der LMU München
LOCATION:Zentralinstitut für Kunstgeschichte\, Katharina-von-Bora-Str. 10\, 80333 München\, nördlicher Lichthof\, I. OG
PRIORITY:3
TRANSP:0
END:VEVENT
END:VCALENDAR
