BEGIN:VCALENDAR
PRODID:-//AT Content Types//AT Event//EN
VERSION:2.0
METHOD:PUBLISH
BEGIN:VEVENT
DTSTAMP:20260420T101614Z
CREATED:20191017T101044Z
UID:ATEvent-6422dba813904a5d811a8ba49002f916
LAST-MODIFIED:20241014T133749Z
SUMMARY:Current Research // Morten S. Hansen: Hairy Hermit\, Sick Demon: Toward a Rethinking of the Isenheim Altarpiece
DTSTART:20191120T130000Z
DTEND:20191120T143000Z
DESCRIPTION:Current Research. Lektüreseminar am ZI .
LOCATION:Zentralinstitut für Kunstgeschichte\, Raum 110\, I. OG\, Katharina-von-Bora-Straße 10\, 80333 München
CATEGORIES:2019
CLASS:PUBLIC
END:VEVENT
END:VCALENDAR
