BEGIN:VCALENDAR
PRODID:-//AT Content Types//AT Event//EN
VERSION:1.0
BEGIN:VEVENT
DTSTART:20190116T130000Z
DTEND:20190116T150000Z
DCREATED:20180917T075837Z
UID:ATEvent-0b179e26aad04759b28f7b9ecddce44c
SEQUENCE:0
LAST-MODIFIED:20241007T105955Z
SUMMARY:Current Research. Lektüreseminar am ZI mit Ulrich Rehm
DESCRIPTION:Lektüreseminar: Ulrich Rehm: „Bildliche Mythenrezeption
  im Mittelalter“
LOCATION:Zentralinstitut für Kunstgeschichte\, Raum 110\, I. OG\, Katharina-von-Bora-Straße 10\, 80333 München
PRIORITY:3
TRANSP:0
END:VEVENT
END:VCALENDAR
