BEGIN:VCALENDAR
PRODID:-//AT Content Types//AT Event//EN
VERSION:2.0
METHOD:PUBLISH
BEGIN:VEVENT
DTSTAMP:20260422T004603Z
CREATED:20180821T113659Z
UID:ATEvent-74f81c1ac03741dfa2915207b1be973f
LAST-MODIFIED:20241007T105935Z
SUMMARY:Current Research. Lektüreseminar am ZI mit Diletta Gamberini
DTSTART:20190206T130000Z
DTEND:20190206T150000Z
DESCRIPTION:Lektüreseminar: Diletta Gamberini: The Medicean Poet-Arti
 sts and the Michelangelesque Paradigm
LOCATION:Zentralinstitut für Kunstgeschichte\, Raum 242\, II. OG\, Katharina-von-Bora-Straße 10\, 80333 München
CATEGORIES:2019
CLASS:PUBLIC
END:VEVENT
END:VCALENDAR
