BEGIN:VCALENDAR
PRODID:-//AT Content Types//AT Event//EN
VERSION:1.0
BEGIN:VEVENT
DTSTART:20191030T173000Z
DTEND:20191030T193000Z
DCREATED:20190725T150506Z
UID:ATEvent-b667524c8bfc43bcb33bf5994701f5fa
SEQUENCE:0
LAST-MODIFIED:20241023T115159Z
SUMMARY:Festvortrag Wolfgang-Ratjen-Preis 2019 // Jonathan Bober: Genoese Baroque Drawing: Issues in Connoisseurship
DESCRIPTION:Aus Anlass der Vergabe des Wolfgang-Ratjen-Preises 2019 an
  Fabienne Ruppen\, Frankfurt a.M.\, fÃ¼r ihre Dissertation "Der fragme
 ntierte CÃ©zanne. Zur Rekonstruktion von SkizzenbÃ¼chern und losen BlÃ
 ¤ttern".
LOCATION:Zentralinstitut fÃ¼r Kunstgeschichte\, Vortragsraum 242\, II. OG\, Katharina-von-Bora-StraÃŸe 10\, 80333 MÃ¼nchen
PRIORITY:3
TRANSP:0
END:VEVENT
END:VCALENDAR
