BEGIN:VCALENDAR
PRODID:-//AT Content Types//AT Event//EN
VERSION:1.0
BEGIN:VEVENT
DTSTART:20190607T090000Z
DTEND:20190608T150000Z
DCREATED:20190522T093307Z
UID:ATEvent-b531c6f854064b2d87e248b257dff8ed
SEQUENCE:0
LAST-MODIFIED:20241023T114734Z
SUMMARY:Tagung: James Loeb. The Collector and Connoisseur
DESCRIPTION:James Loeb. The Collector and Connoisseur
LOCATION:Staatliche Antikensammlungen\, München\,  Königsplatz 1 / Zentralinstitut für Kunstgeschichte\,   München\, Katharina-von-Bora-Straße 10\, Raum 242\, 2. OG
PRIORITY:3
TRANSP:0
END:VEVENT
END:VCALENDAR
