BEGIN:VCALENDAR
PRODID:-//AT Content Types//AT Event//EN
VERSION:1.0
BEGIN:VEVENT
DTSTART:20191211T173000Z
DTEND:20191211T190000Z
DCREATED:20190731T143639Z
UID:ATEvent-8e44011bda7f486fa8e7d86555c627d3
SEQUENCE:0
LAST-MODIFIED:20250326T094321Z
SUMMARY:Vortrag // Hartmut Böhme: Der Niedergang naturästhetischer Evidenz\, oder: Über die Unvermeidlichkeit der Natur in den Künsten
DESCRIPTION:Parallel zu dem Vortrag beginnt die Ausstellung Hans Haack
 e mit einer Kurzeinführung von Ursula Ströbele im Vorfeld des Vortra
 gs.\nDer Vortrag ist Teil der im Herbst 2019 am Zentralinstitut für K
 unstgeschichte beginnenden Vortragsreihe Kunst\, Natur\, Politik: Jetz
 t.
LOCATION:Zentralinstitut für Kunstgeschichte\, Vortragsraum 242\, II. OG\, Katharina-von-Bora-Straße 10\, 80333 München
PRIORITY:3
TRANSP:0
END:VEVENT
END:VCALENDAR
