BEGIN:VCALENDAR
PRODID:-//AT Content Types//AT Event//EN
VERSION:1.0
BEGIN:VEVENT
DTSTART:20190124T130000Z
DTEND:20190124T140000Z
DCREATED:20181212T095035Z
UID:ATEvent-82b70cf1d65a4ba48370760302ec505d
SEQUENCE:0
LAST-MODIFIED:20241007T110848Z
SUMMARY:Workshop Anna Frank
DESCRIPTION:Frank: „Tho Gades Ehren vnd der Karcken Zihr.“ Materia
 lität\, Bildlichkeit und Funktion von Schrift auf Epitaphien. Memoria
  nach der Reformation
LOCATION:Zentralinstitut für Kunstgeschichte\, Katharina-von-Bora-Str. 10\, München\, Raum 110\, I. OG
PRIORITY:3
TRANSP:0
END:VEVENT
END:VCALENDAR
