BEGIN:VCALENDAR
PRODID:-//AT Content Types//AT Event//EN
VERSION:2.0
METHOD:PUBLISH
BEGIN:VEVENT
DTSTAMP:20260425T140138Z
CREATED:20190704T134707Z
UID:ATEvent-92c6809bfdb242e5bb97a2d7e75db6d3
LAST-MODIFIED:20190712T065935Z
SUMMARY:Workshop: Anna-Maria Kanta
DTSTART:20190718T120000Z
DTEND:20190718T130000Z
DESCRIPTION:Kanta: Drawing\, Copying and Appropriation as Methods of W
 orking Through the Past
LOCATION:Zentralinstitut für Kunstgeschichte\, Katharina-von-Bora-Str. 10\, München\, Raum 110\, I. OG
CATEGORIES:2019, Juliane-und-Franz-Roh-Stipendium
CLASS:PUBLIC
END:VEVENT
END:VCALENDAR
