BEGIN:VCALENDAR
PRODID:-//AT Content Types//AT Event//EN
VERSION:2.0
METHOD:PUBLISH
BEGIN:VEVENT
DTSTAMP:20260422T145539Z
CREATED:20191015T074639Z
UID:ATEvent-f95f3499ffa343b28c02217c4dcd1ea4
LAST-MODIFIED:20241014T133702Z
SUMMARY:Workshop // Francesca Padovani: Hans Reichles bayerischer Aufenthalt: Überlegungen zu den Meisterwerken eines wandernden Bildhauers
DTSTART:20191128T130000Z
DTEND:20191128T140000Z
DESCRIPTION:Stipendiaten und Mitarbeiter des ZI sowie Gastwissenschaft
 ler berichten über laufende Arbeiten. Die offene Form des Workshops e
 rmöglicht eine intensive Diskussion.
LOCATION:Zentralinstitut für Kunstgeschichte\, Katharina-von-Bora-Str. 10\, München\, Raum 110\, I. OG
CLASS:PUBLIC
END:VEVENT
END:VCALENDAR
