BEGIN:VCALENDAR
PRODID:-//AT Content Types//AT Event//EN
VERSION:1.0
BEGIN:VEVENT
DTSTART:20201030T123000Z
DTEND:20201101T120000Z
DCREATED:20191209T150339Z
UID:ATEvent-cfac7a4b7e8345959b9f3a6837061dd8
SEQUENCE:0
LAST-MODIFIED:20251028T124341Z
SUMMARY:ENTFÄLLT: Workshop und Tagung // Ekphrasis und Residenz – Höfische Kultur und das Medium des Reiseberichts im Zeitalter der Konfessionalisierung um 1600
DESCRIPTION:Workshop und Tagung des DFG-Langzeitvorhabens „Kommentie
 rte digitale Edition der Reise- und Sammlungsbeschreibungen Philipp Ha
 inhofers (1578–1647)“ der Herzog August Bibliothek Wolfenbüttel u
 nd der Trierer Arbeitsstelle für Künstlersozialgeschichte in Koopera
 tion mit dem Zentralinstitut für Kunstgeschichte München.
LOCATION:Zentralinstitut für Kunstgeschichte\, Vortragsraum 242\, II. OG\, Katharina-von-Bora-Straße 10\, 80333 München
PRIORITY:3
TRANSP:0
END:VEVENT
END:VCALENDAR
