BEGIN:VCALENDAR
PRODID:-//AT Content Types//AT Event//EN
VERSION:1.0
BEGIN:VEVENT
DTSTART:20201118T130000Z
DTEND:20201118T150000Z
DCREATED:20201021T103216Z
UID:ATEvent-b63b1f47794c4b078b4451bcd817be6f
SEQUENCE:0
LAST-MODIFIED:20241007T104259Z
SUMMARY:Online-Seminar // Current Research. Lektüreseminar am ZI mit Juliane Vogel
DESCRIPTION:Das Lektüreseminar diskutiert jüngst publizierte Arbeite
 n oder aber weitgehend abgeschlossene Manuskripte. Die Texte werden vi
 er Wochen im Voraus an die TeilnehmerInnen verschickt und dann gemeins
 am mit den AutorInnen diskutiert.
PRIORITY:3
TRANSP:0
END:VEVENT
END:VCALENDAR
