BEGIN:VCALENDAR
PRODID:-//AT Content Types//AT Event//EN
VERSION:2.0
METHOD:PUBLISH
BEGIN:VEVENT
DTSTAMP:20260422T175342Z
CREATED:20191107T145813Z
UID:ATEvent-b5006ccd9c934102a982d52e50690d49
LAST-MODIFIED:20251028T125203Z
SUMMARY:Kolloquium // Raffael 500 – Perspektiven
DTSTART:20200212T123000Z
DTEND:20200212T173000Z
DESCRIPTION:Das Kolloquium im Vorfeld von Raffaels 500. Todestag am 6.
  April 2020 präsentiert Forschungsperspektiven und reflektiert method
 ische Zugänge zu Raffael und seinen Werken angesichts der neuen Basis
 \, die in den letzten Jahren eine Reihe von Ausstellungen\, Restaurier
 ungskampagnen\, Quellenforschungen\, Funden und Neuinterpretationen ge
 schaffen haben.
LOCATION:Zentralinstitut für Kunstgeschichte\, Katharina-von-Bora-Str. 10\, München\, Vortragssaal 242\, II. OG
CATEGORIES:2020
CLASS:PUBLIC
END:VEVENT
END:VCALENDAR
