BEGIN:VCALENDAR
PRODID:-//AT Content Types//AT Event//EN
VERSION:2.0
METHOD:PUBLISH
BEGIN:VEVENT
DTSTAMP:20260423T073830Z
CREATED:20200610T091501Z
UID:ATEvent-7b6318d7e5ae41b4af392fa9e2a1d603
LAST-MODIFIED:20241007T104023Z
SUMMARY:Online | James Loeb Lecture 2020 // Ulrich Pfisterer: Raffael und das Füllhorn der Antike
DTSTART:20200701T163000Z
DTEND:20200701T173000Z
DESCRIPTION:Im Jahr des 500. Todestages von Raffael untersucht der Vor
 trag die wegweisende\nAuseinandersetzung des Urbinaten mit den materie
 llen Hinterlassenschaften der Antike in Rom.
CATEGORIES:2020, James Loeb Lecture
CLASS:PUBLIC
END:VEVENT
END:VCALENDAR
