BEGIN:VCALENDAR
PRODID:-//AT Content Types//AT Event//EN
VERSION:2.0
METHOD:PUBLISH
BEGIN:VEVENT
DTSTAMP:20260422T145745Z
CREATED:20200925T104715Z
UID:ATEvent-b8fb982fb8c042b780267b46cb1d5c50
LAST-MODIFIED:20250326T092351Z
SUMMARY:Online-Vortrag // Joseph Imorde: "Die Porträtdarstellungen des Michelangelo" von Ernst Steinmann und ihr Kontext
DTSTART:20201209T173000Z
DTEND:20201209T183000Z
DESCRIPTION:Der Vortrag ist Teil der Online-Vortragsreihe // Berühmte
  Gesichter. Porträts im Plural in der Neuzeit
CATEGORIES:2020, Reihe Berühmte Gesichter
CLASS:PUBLIC
END:VEVENT
END:VCALENDAR
