BEGIN:VCALENDAR
PRODID:-//AT Content Types//AT Event//EN
VERSION:2.0
METHOD:PUBLISH
BEGIN:VEVENT
DTSTAMP:20260421T100728Z
CREATED:20200423T122637Z
UID:ATEvent-65d68e190ea841d494c7d7e6a175264f
LAST-MODIFIED:20250326T092656Z
SUMMARY:Online-Vortrag // Eva Ehninger: Imagining the Status Quo. Ed Rusha’s Streets of Los Angeles
DTSTART:20200511T163000Z
DTEND:20200511T180000Z
DESCRIPTION:Der Vortrag ist Teil der Veranstaltungsreihe “California
  Dreaming: Utopia\, Dystopia” des Lehrstuhls Theorie und Geschichte 
 für Architektur\, Kunst und Design der Technischen Universität Münc
 hen und des Zentralinstituts für Kunstgeschichte.
CATEGORIES:2020, Reihe California Dreaming
CLASS:PUBLIC
END:VEVENT
END:VCALENDAR
