BEGIN:VCALENDAR
PRODID:-//AT Content Types//AT Event//EN
VERSION:2.0
METHOD:PUBLISH
BEGIN:VEVENT
DTSTAMP:20260426T021856Z
CREATED:20191031T091830Z
UID:ATEvent-d3faf3df69c94b92b5ed5fde7826d687
LAST-MODIFIED:20241007T093941Z
SUMMARY:Vortrag // Hans Körner: Ein Denkmal für eine Brotausträgerin. Lebensmittel in der Kunst und die ‚andere Moderne’ im französischen 19. Jahrhundert
DTSTART:20200226T171500Z
DTEND:20200226T183000Z
DESCRIPTION:Mittwochsvortrag am Zentralinstitut für Kunstgeschichte.
LOCATION:Zentralinstitut für Kunstgeschichte\, Katharina-von-Bora-Str. 10\, München\, Vortragssaal 242\, II. OG
CATEGORIES:2020
CLASS:PUBLIC
END:VEVENT
END:VCALENDAR
