BEGIN:VCALENDAR
PRODID:-//AT Content Types//AT Event//EN
VERSION:2.0
METHOD:PUBLISH
BEGIN:VEVENT
DTSTAMP:20260425T232457Z
CREATED:20200326T111350Z
UID:ATEvent-9352a6b39bfd4c2caa16ea42abace1a8
LAST-MODIFIED:20250326T092903Z
SUMMARY:Online-Vortrag // Thomas O. Haakenson: Visions of Racial Justice: From the Black Arts Movement to Black Dada
DTSTART:20200624T163000Z
DTEND:20200624T180000Z
DESCRIPTION:Der Vortrag ist Teil der Vortragsreihe "California Dreamin
 g: Utopia\, Dystopia"\, eine Veranstaltungsreihe des Zentralinstituts 
 für Kunstgeschichte und des Lehrstuhls Theorie und Geschichte für Ar
 chitektur\, Kunst und Design der Technischen Universität München.
CATEGORIES:2020, Reihe California Dreaming
CLASS:PUBLIC
END:VEVENT
END:VCALENDAR
