BEGIN:VCALENDAR
PRODID:-//AT Content Types//AT Event//EN
VERSION:1.0
BEGIN:VEVENT
DTSTART:20200122T171500Z
DTEND:20200122T183000Z
DCREATED:20191031T092755Z
UID:ATEvent-20aae75311594441a86c0941f8fc8d3f
SEQUENCE:0
LAST-MODIFIED:20241028T111007Z
SUMMARY:Vortrag // Vera-Simone Schulz: Islamische Artefakte auf Wanderschaft
DESCRIPTION:Künstlerische Dynamiken zwischen dem östlichen Mittelmee
 rraum\, Italien und Westafrika südlich der Sahara\, 1300-1600.
LOCATION:Zentralinstitut für Kunstgeschichte\, Katharina-von-Bora-Str. 10\, München\, Vortragssaal 242\, II. OG
PRIORITY:3
TRANSP:0
END:VEVENT
END:VCALENDAR
