BEGIN:VCALENDAR
PRODID:-//AT Content Types//AT Event//EN
VERSION:1.0
BEGIN:VEVENT
DTSTART:20200123T140000Z
DTEND:20200123T150000Z
DCREATED:20191218T112824Z
UID:ATEvent-1b26e4e09bb9427ca1ed280bb54f7830
SEQUENCE:0
LAST-MODIFIED:20241007T095013Z
SUMMARY:Workshop // Dustin Aaron: The Meaning of Mouths: Colonization and Bavarian Romanesque Sculpture
DESCRIPTION:Stipendiaten und Mitarbeiter des ZI sowie Gastwissenschaft
 ler berichten über laufende Arbeiten. Die offene Form des Workshops e
 rmöglicht eine intensive Diskussion.
LOCATION:Zentralinstitut für Kunstgeschichte\, Katharina-von-Bora-Str. 10\, München\, Raum 110\, I. OG
PRIORITY:3
TRANSP:0
END:VEVENT
END:VCALENDAR
