BEGIN:VCALENDAR
PRODID:-//AT Content Types//AT Event//EN
VERSION:2.0
METHOD:PUBLISH
BEGIN:VEVENT
DTSTAMP:20260423T175753Z
CREATED:20200709T091031Z
UID:ATEvent-27e861cdc33d4c2cbb7cbf2ac6e12928
LAST-MODIFIED:20241028T114747Z
SUMMARY:Workshop // Fabienne Ruppen: Puzzling Cézanne. Skizzenbücher und lose Blätter
DTSTART:20200724T080000Z
DTEND:20200724T090000Z
DESCRIPTION:Stipendiatinnen und Stipendiaten und Mitarbeitende des ZI 
 sowie Gastwissenschaftlerinnen und Gastwissenschaftler berichten über
  laufende Arbeiten. Die offene Form des Workshops ermöglicht eine int
 ensive Diskussion.
LOCATION:Katharina-von-Bora-Str. 10\, München\, Vortragsraum 242\, II. OG
CLASS:PUBLIC
END:VEVENT
END:VCALENDAR
