BEGIN:VCALENDAR
PRODID:-//AT Content Types//AT Event//EN
VERSION:2.0
METHOD:PUBLISH
BEGIN:VEVENT
DTSTAMP:20260423T053413Z
CREATED:20191218T112047Z
UID:ATEvent-946c35aedbb6478ca6e9d12631ce458c
LAST-MODIFIED:20241007T095003Z
SUMMARY:Workshop // Joseph Kopta: Chromatic Networks: Materiality and Materialism of Middle Byzantine Gospel Lectionaries (ca. 850–1204 CE)
DTSTART:20200123T130000Z
DTEND:20200123T140000Z
DESCRIPTION:Stipendiaten und Mitarbeiter des ZI sowie Gastwissenschaft
 ler berichten über laufende Arbeiten. Die offene Form des Workshops e
 rmöglicht eine intensive Diskussion.
LOCATION:Zentralinstitut für Kunstgeschichte\, Katharina-von-Bora-Str. 10\, München\, Raum 110\, I. OG
CATEGORIES:2020
CLASS:PUBLIC
END:VEVENT
END:VCALENDAR
