BEGIN:VCALENDAR
PRODID:-//AT Content Types//AT Event//EN
VERSION:2.0
METHOD:PUBLISH
BEGIN:VEVENT
DTSTAMP:20260423T142859Z
CREATED:20200206T134607Z
UID:ATEvent-0f9b0d3da797484ab75a6074cb97990b
LAST-MODIFIED:20241007T100323Z
SUMMARY:Workshop // Nelly Janotka: Kunstreproduktionen von IKEA. Bild-Strategien eines multinationalen Unternehmens und ihr Einfluss auf eine globale visuelle Kultur
DTSTART:20200724T090000Z
DTEND:20200724T100000Z
DESCRIPTION:Stipendiaten und Mitarbeiter des ZI sowie Gastwissenschaft
 ler berichten über laufende Arbeiten. Die offene Form des Workshops e
 rmöglicht eine intensive Diskussion.
LOCATION:Katharina-von-Bora-Str. 10\, München\, Vortragsraum 242\, II. OG
CATEGORIES:2020
CLASS:PUBLIC
END:VEVENT
END:VCALENDAR
