BEGIN:VCALENDAR
PRODID:-//AT Content Types//AT Event//EN
VERSION:1.0
BEGIN:VEVENT
DTSTART:20210910T070000Z
DTEND:20220115T225500Z
DCREATED:20211123T080442Z
UID:ATEvent-c5e309c5691341139e20b25ed3f017bf
SEQUENCE:0
LAST-MODIFIED:20260130T113253Z
SUMMARY:Ausstellung // AUGMENTED SPECIES - Invasive Sculptures in Hybrid Ecologies
DESCRIPTION:An unauthorized International Touring Exhibition of AR-Scu
 lpture in Museums and Sculptural Gardens
PRIORITY:3
TRANSP:0
END:VEVENT
END:VCALENDAR
