BEGIN:VCALENDAR
PRODID:-//AT Content Types//AT Event//EN
VERSION:1.0
BEGIN:VEVENT
DTSTART:20211027T173000Z
DTEND:20211028T140000Z
DCREATED:20211021T104046Z
UID:ATEvent-9b2e66558871460caf039dcc983807b7
SEQUENCE:0
LAST-MODIFIED:20241007T091340Z
SUMMARY:Kolloquium // Zu Ehren von August Liebmann Mayer (1885 —1944)
DESCRIPTION:Gemeinsam mit den Bayerischen Staatsgemäldesammlungen\, d
 em Zentralinstitut für Kunstgeschichte München\, dem Instituto Cerva
 ntes München und dem Historischen Kolleg widmet das Stadtarchiv Münc
 hen August Liebmann Mayer ein wissenschaftliches Kolloquium.
LOCATION:Instituto Cervantes Spanisches Kulturinstitut\, Alfons-Goppel-Straße 7 / Historisches Kolleg\, Kaulbachstraße 15
PRIORITY:3
TRANSP:0
END:VEVENT
END:VCALENDAR
