BEGIN:VCALENDAR
PRODID:-//AT Content Types//AT Event//EN
VERSION:2.0
METHOD:PUBLISH
BEGIN:VEVENT
DTSTAMP:20260421T190227Z
CREATED:20210520T085620Z
UID:ATEvent-354d9123a8984af689809cb9ff751044
LAST-MODIFIED:20250617T105830Z
SUMMARY:Online-Festvortrag Forschungspreis Angewandte Kunst  2021 // Wolfgang Holler: Design des Lebens – Der Alleskünstler Henry van de Velde
DTSTART:20211124T173000Z
DTEND:20211124T190000Z
DESCRIPTION:Aus Anlass der Vergabe des Forschungspreises Angewandte Ku
 nst 2021 an Dr. Alessia Marzo für ihre Dissertation „La miniatura s
 otto cristallo di rocca. Origine\, diffusione e sviluppi (secoli XII-X
 V)". Sonderpreis: Lucy Jarman für ihre Masterarbeit „In Kontakt: Ei
 ne Elfenbeinmuschel im Berliner Kunstgewerbemuseum als Instrument der 
 privaten Andacht im Spätmittelalter".
CATEGORIES:2021, Festvortrag FAK
CLASS:PUBLIC
END:VEVENT
END:VCALENDAR
