BEGIN:VCALENDAR
PRODID:-//AT Content Types//AT Event//EN
VERSION:1.0
BEGIN:VEVENT
DTSTART:20211201T173000Z
DTEND:20211201T190000Z
DCREATED:20210625T083410Z
UID:ATEvent-71f1c65c03264e1cb4b578d7656db105
SEQUENCE:0
LAST-MODIFIED:20241028T121111Z
SUMMARY:Online  Festvortrag Jutta-Held-Preis 2021 // Martin Papenbrock: Kunst und Politik. Jutta Held und die Kunstgeschichte nach 1968
DESCRIPTION:Aus Anlass der Vergabe des Jutta-Held-Preises 2021 an Jo Z
 iebritzki\, M.A.\, für ihre Publikation „Stella Kramrisch. Kunsthis
 torikerin zwischen Europa und Indien. Ein Beitrag zur Depatriarchalisi
 erung der Kunstgeschichte"
PRIORITY:3
TRANSP:0
END:VEVENT
END:VCALENDAR
