BEGIN:VCALENDAR
PRODID:-//AT Content Types//AT Event//EN
VERSION:2.0
METHOD:PUBLISH
BEGIN:VEVENT
DTSTAMP:20260420T034736Z
CREATED:20210429T085938Z
UID:ATEvent-b9da1d2421a44b64a54a40e755fc3906
LAST-MODIFIED:20241028T120703Z
SUMMARY:Online | James Loeb Lecture 2021 // Barbara Baert: How Kairos transformed into Occasio (Grisaille\, School of Mantegna\, 1495-1510)
DTSTART:20211208T173000Z
DTEND:20211208T190000Z
DESCRIPTION:This lecture features a grisaille fresco depicting the Kai
 ros/Occasio motif (Museo della Città nel Palazzo di San Sebastiano in
  Mantua). The grisaille illuminates a historical juncture in which the
  Fortuna/Occasio motif fascinated families of art patrons such as the 
 Gonzagas\, Sforzas and Estes. The hybrid forms arose with the new\, hu
 manist understanding of human destiny. Likewise\, the Mantuan grisaill
 e embodies a modern depiction of mankind and its responsibility to soc
 iety. The grasping of the moment in the fresco allows us to grasp what
  ‘opportunity’ embodied for 15th -century aesthetics and ethics (f
 leeing\, nymphean\, steady\, motion\, immobility\, youth). [...]
CATEGORIES:2021, James Loeb Lecture
CLASS:PUBLIC
END:VEVENT
END:VCALENDAR
