BEGIN:VCALENDAR
PRODID:-//AT Content Types//AT Event//EN
VERSION:1.0
BEGIN:VEVENT
DTSTART:20211027T163000Z
DTEND:20211027T180000Z
DCREATED:20210908T120539Z
UID:ATEvent-d16fdf923a364fb4a710b95c9fae4bb5
SEQUENCE:0
LAST-MODIFIED:20241007T091034Z
SUMMARY:Online-Paneldiskussion // Die Kunst der Logistik. Politische\, ökologische und andere Herausforderungen
DESCRIPTION:Paneldiskussion mit Gästen aus künstlerischer Praxis\, M
 useum\, Transportwesen und Wissenschaft im Rahmen des Workshops „Inf
 rastructures of Producing\, Transporting and Logistics“
PRIORITY:3
TRANSP:0
END:VEVENT
END:VCALENDAR
