BEGIN:VCALENDAR
PRODID:-//AT Content Types//AT Event//EN
VERSION:2.0
METHOD:PUBLISH
BEGIN:VEVENT
DTSTAMP:20260423T103324Z
CREATED:20201118T164724Z
UID:ATEvent-b74e25bead56443ead6133403684fbbb
LAST-MODIFIED:20250326T092434Z
SUMMARY:Online-Vortrag // Claudia Hattendorff: Kunst und Künstler in den Gruppenporträts Henri Fantin-Latours
DTSTART:20210210T173000Z
DTEND:20210210T183000Z
DESCRIPTION:Der Vortrag ist Teil der Online-Vortragsreihe // Berühmte
  Gesichter. Porträts im Plural in der Neuzeit
CATEGORIES:2021, Reihe Berühmte Gesichter
CLASS:PUBLIC
END:VEVENT
END:VCALENDAR
