BEGIN:VCALENDAR
PRODID:-//AT Content Types//AT Event//EN
VERSION:1.0
BEGIN:VEVENT
DTSTART:20210714T163000Z
DTEND:20210714T180000Z
DCREATED:20210428T102936Z
UID:ATEvent-ad8b626c208f46dba628f241ab551d67
SEQUENCE:0
LAST-MODIFIED:20241028T120536Z
SUMMARY:Online-Vortrag // Georg Satzinger: „Residenzschlösser In verschiedenen Städten des südlichen Teutschlands“:  Ein Konvolut aus Balthasar Neumanns zeichnerischem Nachlass in der Österreichischen Nationalbibliothek
PRIORITY:3
TRANSP:0
END:VEVENT
END:VCALENDAR
