BEGIN:VCALENDAR
PRODID:-//AT Content Types//AT Event//EN
VERSION:1.0
BEGIN:VEVENT
DTSTART:20211112T173000Z
DTEND:20211112T190000Z
DCREATED:20210729T125101Z
UID:ATEvent-57f3e1b565d14cde93261a546a71d490
SEQUENCE:0
LAST-MODIFIED:20241007T085414Z
SUMMARY:Online-Vortrag // James Delbourgo: The Dark Side of Collecting - A Short and Twisted History
DESCRIPTION:Keynote Lecture der Online-Tagung // Künstlersammlungen. 
 Objekte\, Ordnungen\, Programmatiken.
LOCATION:Infos zur Teilnahme: unten auf dieser Seite
PRIORITY:3
TRANSP:0
END:VEVENT
END:VCALENDAR
