BEGIN:VCALENDAR
PRODID:-//AT Content Types//AT Event//EN
VERSION:2.0
METHOD:PUBLISH
BEGIN:VEVENT
DTSTAMP:20260423T073825Z
CREATED:20200925T091729Z
UID:ATEvent-e26fc554e3f043d7af3da9e3d7c2b6bb
LAST-MODIFIED:20241002T104656Z
SUMMARY:Online-Vortrag // Mercedes Bunz: On the Culture of Artificial Intelligence
DTSTART:20210127T173000Z
DTEND:20210127T190000Z
DESCRIPTION:Developments in computer programming such as â€˜machine le
 arningâ€™ have resulted in a digital technology that is not anymore ju
 st managing information but also processing language and interpreting 
 images â€“ and as such has started to identify meaning. This talk will
  explore to what extend this has shifted the faultlines and relations 
 between the fields of culture and technology using research from the C
 reative AI Lab\, a collaboration of the Serpentine Gallery with Kingâ€
 ™s College London.
CATEGORIES:2021, Studienzentrum
CLASS:PUBLIC
END:VEVENT
END:VCALENDAR
