BEGIN:VCALENDAR
PRODID:-//AT Content Types//AT Event//EN
VERSION:2.0
METHOD:PUBLISH
BEGIN:VEVENT
DTSTAMP:20260420T101503Z
CREATED:20201118T170025Z
UID:ATEvent-0aba5be5c9264ce4ac04de76379d588a
LAST-MODIFIED:20250326T092457Z
SUMMARY:Online-Vortrag // Monika Wagner: „…als wäre die Farbe eine vulgäre Sache“. Kunstgeschichte in Schwarz-Weiß
DTSTART:20210505T163000Z
DTEND:20210505T180000Z
DESCRIPTION:Der Vortrag ist Teil der Online-Vortragsreihe // Berühmte
  Gesichter. Porträts im Plural in der Neuzeit
CATEGORIES:2021, Reihe Berühmte Gesichter
CLASS:PUBLIC
END:VEVENT
END:VCALENDAR
