BEGIN:VCALENDAR
PRODID:-//AT Content Types//AT Event//EN
VERSION:1.0
BEGIN:VEVENT
DTSTART:20210520T080000Z
DTEND:20210520T093000Z
DCREATED:20210204T110855Z
UID:ATEvent-5af5d5f775ee40809e5bcd20b58522f5
SEQUENCE:0
LAST-MODIFIED:20241002T110145Z
SUMMARY:Online-Workshop //  Charlotte Guichard: Watteau and the New World
DESCRIPTION:Discussion with Panofsky Professor 2021 Charlotte Guichard
 .
PRIORITY:3
TRANSP:0
END:VEVENT
END:VCALENDAR
